BEGIN:VCALENDAR
VERSION:2.0
PRODID:-//wp-events-plugin.com//7.2.3.1//EN
TZID:Europe/Berlin
X-WR-TIMEZONE:Europe/Berlin
BEGIN:VEVENT
UID:3@jugendcafe-bhz.de
DTSTART;TZID=Europe/Berlin:20240908T150000
DTEND;TZID=Europe/Berlin:20240908T173000
DTSTAMP:20240818T152058Z
URL:https://jugendcafe-bhz.de/events/csd-winsen/
SUMMARY:CSD statt AfD Winsen
DESCRIPTION:WICHTIG: Termin wurde auf Sonntag\, 8.9. (ein Tag später) vers
 choben!\nWir werden uns\, wie letztes Jahr\, gemeinsam die Straßen Winsen
 s nehmen um für unsere Rechte zu demonstrieren\, allerdings lauter\, grö
 ßer\, bunter. Also sagt allen Bescheid &amp\; kommt vorbei!\nIhr habt Lus
 t zu helfen? Dann meldet euch bei @winsencsd auf Insta\, oder kommt jeden 
 2. Mittwoch ins Egons in Winsen zu den Planungstreffen.\nIhr wollt eine Re
 de halten? Dann schreibt @winsencsd auf Insta!\nWir freuen uns auf euch!
ATTACH;FMTTYPE=image/jpeg:https://jugendcafe-bhz.de/wp-content/uploads/202
 4/07/csd_statt_afd.png
CATEGORIES:Jugend gegen Rechts,Jugendcafé
END:VEVENT
BEGIN:VTIMEZONE
TZID:Europe/Berlin
X-LIC-LOCATION:Europe/Berlin
BEGIN:DAYLIGHT
DTSTART:20240331T030000
TZOFFSETFROM:+0100
TZOFFSETTO:+0200
TZNAME:CEST
END:DAYLIGHT
END:VTIMEZONE
END:VCALENDAR