BEGIN:VCALENDAR
VERSION:2.0
PRODID:-//wp-events-plugin.com//7.2.3.1//EN
TZID:Europe/Berlin
X-WR-TIMEZONE:Europe/Berlin
BEGIN:VEVENT
UID:2@jugendcafe-bhz.de
DTSTART;TZID=Europe/Berlin:20240809T170000
DTEND;TZID=Europe/Berlin:20240809T200000
DTSTAMP:20240708T202542Z
URL:https://jugendcafe-bhz.de/events/kundgebung-keine-bratwurst-den-faschi
 sten/
SUMMARY:Kundgebung: Keine Bratwurst den Faschisten!
DESCRIPTION:Wir nehmen Alice ihr Schnitzel weg! [1]\n\n\nWir organisieren m
 itten in Buchholz eine Kundgebung\, auf der wir veganes Schnitzel und vega
 ne Bratwurst anbieten werden. Dabei gibt es ein paar Reden\, Musik und vie
 l Zeit für Gespräche.\n\n&nbsp\;\n\n[1] In einer Rede auf einer Wahlkamp
 fveranstaltung behauptet die AfD-Bundessprecherin Alice Weidel\, dass ihr 
 der Fleischkonsum verboten werden wird.
ATTACH;FMTTYPE=image/jpeg:https://jugendcafe-bhz.de/wp-content/uploads/202
 4/07/keine_bratwurst.png
CATEGORIES:Jugend gegen Rechts
END:VEVENT
BEGIN:VTIMEZONE
TZID:Europe/Berlin
X-LIC-LOCATION:Europe/Berlin
BEGIN:DAYLIGHT
DTSTART:20240331T030000
TZOFFSETFROM:+0100
TZOFFSETTO:+0200
TZNAME:CEST
END:DAYLIGHT
END:VTIMEZONE
END:VCALENDAR