BEGIN:VCALENDAR
VERSION:2.0
PRODID:-//wp-events-plugin.com//7.2.3.1//EN
TZID:Europe/Berlin
X-WR-TIMEZONE:Europe/Berlin
BEGIN:VEVENT
UID:1@jugendcafe-bhz.de
DTSTART;TZID=Europe/Berlin:20240807T170000
DTEND;TZID=Europe/Berlin:20240807T183000
DTSTAMP:20240708T202522Z
URL:https://jugendcafe-bhz.de/events/tischgespraech-unser-eigenes-cafe-in-
 buchholz/
SUMMARY:Tischgespräch: Unser eigenes Café - In Buchholz
DESCRIPTION:Das Projekt Jugendcafé gibt es nun schon seit über einem Jahr
 . Wir haben bereits viele erfolgreiche Veranstaltungen gemacht. Doch es b
 leibt immernoch das Problem bestehen\, einen geeigneten Raum dafür zu bie
 ten. Und dieses Problem haben nicht nur wir\, sondern viele von euch Engag
 ierten auch.\n\nDeshalb nun zu unserer Idee: Ein eigenes Café in Buchholz
 !!\n\nWir als Jugend brauchen und wollen unsere eigenen Projekte und Räum
 e - Das ist unser Konzept beim Jugendcafé - Aber wir wollen auch in den A
 ustausch kommen und gemeinsam Räume gestalten.\n\nWir wollen gemeinsam pl
 anen wie dieses Café gestaltet werden kann\, wo wir sein können und wie 
 wir das ganze solidarisch und gemeinschaftlich finanzieren können!\n\nWir
  freuen uns über eure Ideen und Anregungen!\n\n&nbsp\;\n\nAuf unserer Web
 site gibt es auch eine Unterseite zu diesem Projekt.\n\nDieses Tischgespr
 äch findet im Rahmen von \,\,Deutschland besser machen" statt.
ATTACH;FMTTYPE=image/jpeg:https://jugendcafe-bhz.de/wp-content/uploads/202
 4/06/Tischgespraech.png
CATEGORIES:Jugend gegen Rechts,Jugendcafé
END:VEVENT
BEGIN:VTIMEZONE
TZID:Europe/Berlin
X-LIC-LOCATION:Europe/Berlin
BEGIN:DAYLIGHT
DTSTART:20240331T030000
TZOFFSETFROM:+0100
TZOFFSETTO:+0200
TZNAME:CEST
END:DAYLIGHT
END:VTIMEZONE
END:VCALENDAR